BEGIN:VCALENDAR
VERSION:2.0
CALSCALE:GREGORIAN
BEGIN:VEVENT
DTSTAMP:20260420T140739
DTSTART:20260510T120000
DTEND:20260510T130000
SUMMARY:Mother\'s Day Tasting Event At The Vineyard At Hershey
DESCRIPTION:Event Info: https://www.localwineevents.com/view/event/mothers-day-tasting-event-at-the-vineyard-at-hershey/1002699
LOCATION:The Vineyard at Hershey -- 598 Schoolhouse Road Middletown, PA 17057
STATUS:CONFIRMED
SEQUENCE:0
TRANSP:OPAQUE
END:VEVENT
END:VCALENDAR
