BEGIN:VCALENDAR
VERSION:2.0
CALSCALE:GREGORIAN
BEGIN:VEVENT
DTSTAMP:20260420T174401
DTSTART:20260510T090000
DTEND:20260510T143000
SUMMARY:Mothers Day Brunch At Renault Winery
DESCRIPTION:Event Info: https://www.localwineevents.com/view/event/mothers-day-brunch-at-renault-winery/1002698
LOCATION:Renault Winery Resort -- 72 N Bremen Avenue Egg Harbor City, NJ 08215
STATUS:CONFIRMED
SEQUENCE:0
TRANSP:OPAQUE
END:VEVENT
END:VCALENDAR
