BEGIN:VCALENDAR
VERSION:2.0
CALSCALE:GREGORIAN
BEGIN:VEVENT
DTSTAMP:20260420T073602
DTSTART:20260509T200000
DTEND:20260510T000000
SUMMARY:UFC 328 Viewing Party At Macs Wood Grilled
DESCRIPTION:Event Info: https://www.localwineevents.com/view/event/ufc-328-viewing-party-at-macs-wood-grilled/1002696
LOCATION:Mac\'s Wood Grilled -- 1801 W. Division St. Chicago, IL 60622
STATUS:CONFIRMED
SEQUENCE:0
TRANSP:OPAQUE
END:VEVENT
END:VCALENDAR
