BEGIN:VCALENDAR
VERSION:2.0
CALSCALE:GREGORIAN
BEGIN:VEVENT
DTSTAMP:20260423T135958
DTSTART:20260508T170000
DTEND:20260508T193000
SUMMARY:Friday Night Wine Tasting
DESCRIPTION:Event Info: https://www.localwineevents.com/view/event/friday-night-wine-tasting/1002695
LOCATION:SavWay Fine Wines - Geneva -- 515 W. State Street Geneva, IL 60134
STATUS:CONFIRMED
SEQUENCE:0
TRANSP:OPAQUE
END:VEVENT
END:VCALENDAR
