BEGIN:VCALENDAR
VERSION:2.0
CALSCALE:GREGORIAN
BEGIN:VEVENT
DTSTAMP:20260421T161927
DTSTART:20260516T120000
DTEND:20260516T160000
SUMMARY:Savor Southwest Washington Wine 2026
DESCRIPTION:Event Info: https://www.localwineevents.com/view/event/savor-southwest-washington-wine-2026/1002694
LOCATION:Battle Ground Community Center -- 912 East Main St Battle Ground, WA 98604
STATUS:CONFIRMED
SEQUENCE:0
TRANSP:OPAQUE
END:VEVENT
END:VCALENDAR
