BEGIN:VCALENDAR
VERSION:2.0
CALSCALE:GREGORIAN
BEGIN:VEVENT
DTSTAMP:20260421T040627
DTSTART:20260424T180000
DTEND:20260424T200000
SUMMARY:FirePit Friday At Fence Stile Vineyards, Winery  Distillery
DESCRIPTION:Event Info: https://www.localwineevents.com/view/event/firepit-friday-at-fence-stile-vineyards-winery-distillery/1002693
LOCATION:Fence Stile Vineyards, Winery  Distillery -- 31010 W 124th St. Excelsior Springs, MO 64024
STATUS:CONFIRMED
SEQUENCE:0
TRANSP:OPAQUE
END:VEVENT
END:VCALENDAR
