BEGIN:VCALENDAR
VERSION:2.0
CALSCALE:GREGORIAN
BEGIN:VEVENT
DTSTAMP:20260421T040927
DTSTART:20260426T130000
DTEND:20260426T143000
SUMMARY:1 PM Winery, Wine Cave Tour And Candlelit Tasting
DESCRIPTION:Event Info: https://www.localwineevents.com/view/event/1-pm-winery-wine-cave-tour-and-candlelit-tasting/1002688
LOCATION:Fence Stile Vineyards, Winery  Distillery -- 31010 W. 124th St. Excelsior Springs, MO 64024
STATUS:CONFIRMED
SEQUENCE:0
TRANSP:OPAQUE
END:VEVENT
END:VCALENDAR
