BEGIN:VCALENDAR
VERSION:2.0
CALSCALE:GREGORIAN
BEGIN:VEVENT
DTSTAMP:20260420T074426
DTSTART:20260513T180000
DTEND:20260513T083000
SUMMARY:The Most Unique East Coast Wine Educational Tasting And Sales Event
DESCRIPTION:Event Info: https://www.localwineevents.com/view/event/the-most-unique-east-coast-wine-educational-tasting-and-sales-event/1002687
LOCATION:Falls Church Episcopal Church Fellowship Hall -- 115 East Fairfax, St. Falls Church, VA 22046
STATUS:CONFIRMED
SEQUENCE:0
TRANSP:OPAQUE
END:VEVENT
END:VCALENDAR
