BEGIN:VCALENDAR
VERSION:2.0
CALSCALE:GREGORIAN
BEGIN:VEVENT
DTSTAMP:20260420T074428
DTSTART:20260424T150000
DTEND:20260424T190000
SUMMARY:Mary Taylor Preview And More Treats
DESCRIPTION:Event Info: https://www.localwineevents.com/view/event/mary-taylor-preview-and-more-treats/1002686
LOCATION:Chain Bridge Cellars -- 1351 Chain Bridge Rd. McLean, VA 22101
STATUS:CONFIRMED
SEQUENCE:0
TRANSP:OPAQUE
END:VEVENT
END:VCALENDAR
