BEGIN:VCALENDAR
VERSION:2.0
CALSCALE:GREGORIAN
BEGIN:VEVENT
DTSTAMP:20260420T074446
DTSTART:20260425T120000
DTEND:20260425T160000
SUMMARY:Mary Taylor Pours Mary Taylor Wines!
DESCRIPTION:Event Info: https://www.localwineevents.com/view/event/mary-taylor-pours-mary-taylor-wines/1002684
LOCATION:Chain Bridge Cellars -- 1351 Chain Bridge Rd. McLean, VA 22101
STATUS:CONFIRMED
SEQUENCE:0
TRANSP:OPAQUE
END:VEVENT
END:VCALENDAR
