BEGIN:VCALENDAR
VERSION:2.0
CALSCALE:GREGORIAN
BEGIN:VEVENT
DTSTAMP:20260420T090738
DTSTART:20260428T183000
DTEND:20260428T210000
SUMMARY:Tercero 5-Course Winemaker Dinner W/Larry Schaffer + Chef Erin Sealy
DESCRIPTION:Event Info: https://www.localwineevents.com/view/event/tercero-5-course-winemaker-dinner-wlarry-schaffer-chef-erin-sealy/1002682
LOCATION:Drift Cafe -- 4652 Mission Blvd San Diego, CA 92109
STATUS:CONFIRMED
SEQUENCE:0
TRANSP:OPAQUE
END:VEVENT
END:VCALENDAR
