BEGIN:VCALENDAR
VERSION:2.0
CALSCALE:GREGORIAN
BEGIN:VEVENT
DTSTAMP:20260420T090753
DTSTART:20260427T180000
DTEND:20260427T203000
SUMMARY:Tercero 5-Course Winemaker Dinner W/Larry Schaffer + Chef Erin Sealy
DESCRIPTION:Event Info: https://www.localwineevents.com/view/event/tercero-5-course-winemaker-dinner-wlarry-schaffer-chef-erin-sealy/1002681
LOCATION:Stratford at the Harbor -- 280 Harbor Dr Oceanside, CA 92054
STATUS:CONFIRMED
SEQUENCE:0
TRANSP:OPAQUE
END:VEVENT
END:VCALENDAR
