BEGIN:VCALENDAR
VERSION:2.0
CALSCALE:GREGORIAN
BEGIN:VEVENT
DTSTAMP:20260420T121914
DTSTART:20260426T173000
DTEND:20260426T200000
SUMMARY:Tercero 5-Course Winemaker Dinner W/Larry Schaffer + Chef Erin Sealy
DESCRIPTION:Event Info: https://www.localwineevents.com/view/event/tercero-5-course-winemaker-dinner-wlarry-schaffer-chef-erin-sealy/1002680
LOCATION:Perspektive Studio -- 32773 Calle Perfecto San Juan Capistrano, CA 92675
STATUS:CONFIRMED
SEQUENCE:0
TRANSP:OPAQUE
END:VEVENT
END:VCALENDAR
