BEGIN:VCALENDAR
VERSION:2.0
CALSCALE:GREGORIAN
BEGIN:VEVENT
DTSTAMP:20260420T090654
DTSTART:20260423T183000
DTEND:20260423T210000
SUMMARY:Casa Noble + Mi Campo Tequila Dinner W/Bianca Sterling + Chef Erin Sealy
DESCRIPTION:Event Info: https://www.localwineevents.com/view/event/casa-noble-mi-campo-tequila-dinner-wbianca-sterling-chef-erin-sealy/1002679
LOCATION:Baja Rick\'s Cantina -- 170 Sixth Ave. San Diego, CA 92101
STATUS:CONFIRMED
SEQUENCE:0
TRANSP:OPAQUE
END:VEVENT
END:VCALENDAR
