BEGIN:VCALENDAR
VERSION:2.0
CALSCALE:GREGORIAN
BEGIN:VEVENT
DTSTAMP:20260420T090737
DTSTART:20260422T180000
DTEND:20260422T203000
SUMMARY:Cass 5-Course Wine Dinner W/Corey Rowin + Chef Erin Sealy
DESCRIPTION:Event Info: https://www.localwineevents.com/view/event/cass-5-course-wine-dinner-wcorey-rowin-chef-erin-sealy/1002678
LOCATION:North County Wine Co. -- 1099 West San Marcos Blvd San Marcos, CA - California 92078
STATUS:CONFIRMED
SEQUENCE:0
TRANSP:OPAQUE
END:VEVENT
END:VCALENDAR
