BEGIN:VCALENDAR
VERSION:2.0
CALSCALE:GREGORIAN
BEGIN:VEVENT
DTSTAMP:20260420T090712
DTSTART:20260420T183000
DTEND:20260420T203000
SUMMARY:SAMsARA 3-Course Wine Dinner With Chef Erin Sealy
DESCRIPTION:Event Info: https://www.localwineevents.com/view/event/samsara-3-course-wine-dinner-with-chef-erin-sealy/1002677
LOCATION:Hardihood Event Space -- 4379 30th St #4 San Diego, CA 92104
STATUS:CONFIRMED
SEQUENCE:0
TRANSP:OPAQUE
END:VEVENT
END:VCALENDAR
