BEGIN:VCALENDAR
VERSION:2.0
CALSCALE:GREGORIAN
BEGIN:VEVENT
DTSTAMP:20260420T074427
DTSTART:20260613T110000
DTEND:20260613T193000
SUMMARY:13th Annual Wine, Cheese  Chocolate Festival
DESCRIPTION:Event Info: https://www.localwineevents.com/view/event/13th-annual-wine-cheese-chocolate-festival/1002676
LOCATION:Westport Fairgrounds -- 200 Pine Hill Rd Westport, MA 02790
STATUS:CONFIRMED
SEQUENCE:0
TRANSP:OPAQUE
END:VEVENT
END:VCALENDAR
