BEGIN:VCALENDAR
VERSION:2.0
CALSCALE:GREGORIAN
BEGIN:VEVENT
DTSTAMP:20260420T154359
DTSTART:20260509T150000
DTEND:20260509T170000
SUMMARY:2026 Festivals Preview Tasting - Los Angeles
DESCRIPTION:Event Info: https://www.localwineevents.com/view/event/2026-festivals-preview-tasting---los-angeles/1002673
LOCATION:Tam O\'Shanter -- 2980 Los Feliz Blvd Los Angeles, CA 90039
STATUS:CONFIRMED
SEQUENCE:0
TRANSP:OPAQUE
END:VEVENT
END:VCALENDAR
