BEGIN:VCALENDAR
VERSION:2.0
CALSCALE:GREGORIAN
BEGIN:VEVENT
DTSTAMP:20260420T110735
DTSTART:20260509T120000
DTEND:20260509T160000
SUMMARY:Forage Fest: A Wild Food Gathering
DESCRIPTION:Event Info: https://www.localwineevents.com/view/event/forage-fest-a-wild-food-gathering/1002672
LOCATION:(Creative Legion) -- 7 Fairview Avenue Hudson, NY 12534
STATUS:CONFIRMED
SEQUENCE:0
TRANSP:OPAQUE
END:VEVENT
END:VCALENDAR
