BEGIN:VCALENDAR
VERSION:2.0
CALSCALE:GREGORIAN
BEGIN:VEVENT
DTSTAMP:20260420T074428
DTSTART:20260509T103000
DTEND:20260509T133000
SUMMARY:Mother\'s Day Weekend New York Style Bagels Baking Class
DESCRIPTION:Event Info: https://www.localwineevents.com/view/event/mothers-day-weekend-new-york-style-bagels-baking-class/1002671
LOCATION:Bettie\'s Chicago -- 853 North Larrabee Street Chicago, IL 60610
STATUS:CONFIRMED
SEQUENCE:0
TRANSP:OPAQUE
END:VEVENT
END:VCALENDAR
