BEGIN:VCALENDAR
VERSION:2.0
CALSCALE:GREGORIAN
BEGIN:VEVENT
DTSTAMP:20260420T075223
DTSTART:20260509T180000
DTEND:20260509T200000
SUMMARY:Martini Magic
DESCRIPTION:Event Info: https://www.localwineevents.com/view/event/martini-magic/1002662
LOCATION:9 Via Toscana -- 9 Via Toscana Salem, NH 03079
STATUS:CONFIRMED
SEQUENCE:0
TRANSP:OPAQUE
END:VEVENT
END:VCALENDAR
