BEGIN:VCALENDAR
VERSION:2.0
CALSCALE:GREGORIAN
BEGIN:VEVENT
DTSTAMP:20260422T074407
DTSTART:20260509T140000
DTEND:20260509T180000
SUMMARY:Cheers To Mom: The Mot Experience
DESCRIPTION:Event Info: https://www.localwineevents.com/view/event/cheers-to-mom-the-mot-experience/1002659
LOCATION:Hotel Valencia Santana Row, Valencia Hotel Collection -- 355 Santana Row San Jose, CA 95128
STATUS:CONFIRMED
SEQUENCE:0
TRANSP:OPAQUE
END:VEVENT
END:VCALENDAR
