BEGIN:VCALENDAR
VERSION:2.0
CALSCALE:GREGORIAN
BEGIN:VEVENT
DTSTAMP:20260420T074446
DTSTART:20260509T140000
DTEND:20260509T170000
SUMMARY:Mothers Day High Tea Experience At Colonial Hall At Rockafellas
DESCRIPTION:Event Info: https://www.localwineevents.com/view/event/mothers-day-high-tea-experience-at-colonial-hall-at-rockafellas/1002655
LOCATION:Colonial Hall at Rockafellas -- 227 Essex Street Salem, MA 01970
STATUS:CONFIRMED
SEQUENCE:0
TRANSP:OPAQUE
END:VEVENT
END:VCALENDAR
