BEGIN:VCALENDAR
VERSION:2.0
CALSCALE:GREGORIAN
BEGIN:VEVENT
DTSTAMP:20260422T233913
DTSTART:20260509T110000
DTEND:20260509T150000
SUMMARY:International Food Fest: A World Of Flavors
DESCRIPTION:Event Info: https://www.localwineevents.com/view/event/international-food-fest-a-world-of-flavors/1002650
LOCATION:5771 N Apopka Vineland Rd -- 5771 North Apopka Vineland Road Orlando, FL 32818
STATUS:CONFIRMED
SEQUENCE:0
TRANSP:OPAQUE
END:VEVENT
END:VCALENDAR
