BEGIN:VCALENDAR
VERSION:2.0
CALSCALE:GREGORIAN
BEGIN:VEVENT
DTSTAMP:20260420T154356
DTSTART:20260509T170000
DTEND:20260509T210000
SUMMARY:Food Tasting Experience: Try New Flavors  Support Restaurants
DESCRIPTION:Event Info: https://www.localwineevents.com/view/event/food-tasting-experience-try-new-flavors-support-restaurants/1002649
LOCATION:115 W Ave 26 -- 115 West Avenue 26 Los Angeles, CA 90031
STATUS:CONFIRMED
SEQUENCE:0
TRANSP:OPAQUE
END:VEVENT
END:VCALENDAR
