BEGIN:VCALENDAR
VERSION:2.0
CALSCALE:GREGORIAN
BEGIN:VEVENT
DTSTAMP:20260421T162958
DTSTART:20260509T170000
DTEND:20260509T190000
SUMMARY:In-Person Class: The Art Of Sushi Making (Portland)
DESCRIPTION:Event Info: https://www.localwineevents.com/view/event/in-person-class-the-art-of-sushi-making-portland/1002648
LOCATION:Moxy Portland Downtown -- 585 Southwest 10th Avenue Portland, OR 97205
STATUS:CONFIRMED
SEQUENCE:0
TRANSP:OPAQUE
END:VEVENT
END:VCALENDAR
