BEGIN:VCALENDAR
VERSION:2.0
CALSCALE:GREGORIAN
BEGIN:VEVENT
DTSTAMP:20260420T074507
DTSTART:20260509T160000
DTEND:20260509T180000
SUMMARY:Mothers Day Sip And Paint At Clyopatra Winery 2026
DESCRIPTION:Event Info: https://www.localwineevents.com/view/event/mothers-day-sip-and-paint-at-clyopatra-winery-2026/1002639
LOCATION:Clyopatra Winery  Vineyard -- 24 C Street Laurel, MD 20707
STATUS:CONFIRMED
SEQUENCE:0
TRANSP:OPAQUE
END:VEVENT
END:VCALENDAR
