BEGIN:VCALENDAR
VERSION:2.0
CALSCALE:GREGORIAN
BEGIN:VEVENT
DTSTAMP:20260420T152537
DTSTART:20260509T110000
DTEND:20260509T150000
SUMMARY:Downtown De Pere Foodie Walk
DESCRIPTION:Event Info: https://www.localwineevents.com/view/event/downtown-de-pere-foodie-walk/1002632
LOCATION:Downtown De Pere -- 117 N Wisconsin St De Pere, WI 54115
STATUS:CONFIRMED
SEQUENCE:0
TRANSP:OPAQUE
END:VEVENT
END:VCALENDAR
