BEGIN:VCALENDAR
VERSION:2.0
CALSCALE:GREGORIAN
BEGIN:VEVENT
DTSTAMP:20260422T163956
DTSTART:20260509T100000
DTEND:20260509T130000
SUMMARY:Coffee Tasting  Cupping Workshop
DESCRIPTION:Event Info: https://www.localwineevents.com/view/event/coffee-tasting-cupping-workshop/1002626
LOCATION:Autonomy Coffee Lab -- 8725 North Dale Mabry Highway Tampa, FL 33614
STATUS:CONFIRMED
SEQUENCE:0
TRANSP:OPAQUE
END:VEVENT
END:VCALENDAR
