BEGIN:VCALENDAR
VERSION:2.0
CALSCALE:GREGORIAN
BEGIN:VEVENT
DTSTAMP:20260420T074506
DTSTART:20260509T153000
DTEND:20260509T163000
SUMMARY:Flash Class: Italian Olive Oil
DESCRIPTION:Event Info: https://www.localwineevents.com/view/event/flash-class-italian-olive-oil/1002625
LOCATION:Eataly Boston -- 800 Boylston Street Boston, MA 02199
STATUS:CONFIRMED
SEQUENCE:0
TRANSP:OPAQUE
END:VEVENT
END:VCALENDAR
