BEGIN:VCALENDAR
VERSION:2.0
CALSCALE:GREGORIAN
BEGIN:VEVENT
DTSTAMP:20260420T074507
DTSTART:20260509T130000
DTEND:20260509T140000
SUMMARY:Wine Tasting/Seminar At The Embassy Of Austria, May 9, 2026 #2 At 1:00pm
DESCRIPTION:Event Info: https://www.localwineevents.com/view/event/wine-tastingseminar-at-the-embassy-of-austria-may-9-2026-2-at-100pm/1002616
LOCATION:Embassy of Austria -- 3524 International Court Northwest Washington, DC 20008
STATUS:CONFIRMED
SEQUENCE:0
TRANSP:OPAQUE
END:VEVENT
END:VCALENDAR
