BEGIN:VCALENDAR
VERSION:2.0
CALSCALE:GREGORIAN
BEGIN:VEVENT
DTSTAMP:20260420T075223
DTSTART:20260509T110000
DTEND:20260509T120000
SUMMARY:Wine Tasting/Seminar At The Embassy Of Austria, May 9, 2026 #1 At 11:00am
DESCRIPTION:Event Info: https://www.localwineevents.com/view/event/wine-tastingseminar-at-the-embassy-of-austria-may-9-2026-1-at-1100am/1002614
LOCATION:Embassy of Austria -- 3524 International Court Northwest Washington, DC 20008
STATUS:CONFIRMED
SEQUENCE:0
TRANSP:OPAQUE
END:VEVENT
END:VCALENDAR
