BEGIN:VCALENDAR
VERSION:2.0
CALSCALE:GREGORIAN
BEGIN:VEVENT
DTSTAMP:20260420T174458
DTSTART:20260509T100000
DTEND:20260509T120000
SUMMARY:The Philly Coffee Tour
DESCRIPTION:Event Info: https://www.localwineevents.com/view/event/the-philly-coffee-tour/1002606
LOCATION:Elfreth\'s Alley -- Elfreth\'s Alley Philadelphia, PA 19106
STATUS:CONFIRMED
SEQUENCE:0
TRANSP:OPAQUE
END:VEVENT
END:VCALENDAR
