BEGIN:VCALENDAR
VERSION:2.0
CALSCALE:GREGORIAN
BEGIN:VEVENT
DTSTAMP:20260421T100928
DTSTART:20260509T110000
DTEND:20260509T130000
SUMMARY:*DIGITAL CLASS* Six Types Of Tea: A Tasting Tour
DESCRIPTION:Event Info: https://www.localwineevents.com/view/event/digital-class-six-types-of-tea-a-tasting-tour/1002604
LOCATION:Friday Afternoon Tea -- 4228 Stone Way North Seattle, WA 98103
STATUS:CONFIRMED
SEQUENCE:0
TRANSP:OPAQUE
END:VEVENT
END:VCALENDAR
