BEGIN:VCALENDAR
VERSION:2.0
CALSCALE:GREGORIAN
BEGIN:VEVENT
DTSTAMP:20260420T193641
DTSTART:20260509T093000
DTEND:20260509T123000
SUMMARY:California Coffee Cupping And Coffee Farm Tour
DESCRIPTION:Event Info: https://www.localwineevents.com/view/event/california-coffee-cupping-and-coffee-farm-tour/1002598
LOCATION:California Coffee Collective -- 291 ANACAPA TER Santa Paula, CA 93060
STATUS:CONFIRMED
SEQUENCE:0
TRANSP:OPAQUE
END:VEVENT
END:VCALENDAR
