BEGIN:VCALENDAR
VERSION:2.0
CALSCALE:GREGORIAN
BEGIN:VEVENT
DTSTAMP:20260420T074528
DTSTART:20260509T120000
DTEND:20260509T133000
SUMMARY:Dovetail Brewery Tour
DESCRIPTION:Event Info: https://www.localwineevents.com/view/event/dovetail-brewery-tour/1002594
LOCATION:Dovetail Brewery -- 1800 West Belle Plaine Avenue Chicago, IL 60613
STATUS:CONFIRMED
SEQUENCE:0
TRANSP:OPAQUE
END:VEVENT
END:VCALENDAR
