BEGIN:VCALENDAR
VERSION:2.0
CALSCALE:GREGORIAN
BEGIN:VEVENT
DTSTAMP:20260420T174401
DTSTART:20260509T113000
DTEND:20260509T160000
SUMMARY:Spring Pairing Picnic In The Alpaca Pasture
DESCRIPTION:Event Info: https://www.localwineevents.com/view/event/spring-pairing-picnic-in-the-alpaca-pasture/1002592
LOCATION:Morning Glori Farmette -- 131 Navy Lane Evesham Township, NJ 08053
STATUS:CONFIRMED
SEQUENCE:0
TRANSP:OPAQUE
END:VEVENT
END:VCALENDAR
