BEGIN:VCALENDAR
VERSION:2.0
CALSCALE:GREGORIAN
BEGIN:VEVENT
DTSTAMP:20260420T074447
DTSTART:20260509T170000
DTEND:20260509T180000
SUMMARY:Guided Tasting And Tour
DESCRIPTION:Event Info: https://www.localwineevents.com/view/event/guided-tasting-and-tour/1002582
LOCATION:Tuckerman Brewing -- 66 Hobbs Street Conway, NH 03818
STATUS:CONFIRMED
SEQUENCE:0
TRANSP:OPAQUE
END:VEVENT
END:VCALENDAR
