BEGIN:VCALENDAR
VERSION:2.0
CALSCALE:GREGORIAN
BEGIN:VEVENT
DTSTAMP:20260420T090613
DTSTART:20260509T113000
DTEND:20260509T153000
SUMMARY:Sip, Snack  Create: A Mothers Day Wine Glass Painting Experience
DESCRIPTION:Event Info: https://www.localwineevents.com/view/event/sip-snack-create-a-mothers-day-wine-glass-painting-experience/1002579
LOCATION:1263 University Ave -- 1263 University Avenue San Diego, CA 92103
STATUS:CONFIRMED
SEQUENCE:0
TRANSP:OPAQUE
END:VEVENT
END:VCALENDAR
