BEGIN:VCALENDAR
VERSION:2.0
CALSCALE:GREGORIAN
BEGIN:VEVENT
DTSTAMP:20260420T104114
DTSTART:20260509T140000
DTEND:20260509T160000
SUMMARY:Sip  Paint Class
DESCRIPTION:Event Info: https://www.localwineevents.com/view/event/sip-paint-class/1002572
LOCATION:The Baker House 1650 -- 181 Main Street East Hampton, NY 11937
STATUS:CONFIRMED
SEQUENCE:0
TRANSP:OPAQUE
END:VEVENT
END:VCALENDAR
