BEGIN:VCALENDAR
VERSION:2.0
CALSCALE:GREGORIAN
BEGIN:VEVENT
DTSTAMP:20260420T074507
DTSTART:20260509T120000
DTEND:20260509T140000
SUMMARY:Hands-On: Rosette Di Pasta (Mother\'s Day Edition)
DESCRIPTION:Event Info: https://www.localwineevents.com/view/event/hands-on-rosette-di-pasta-mothers-day-edition/1002570
LOCATION:Eataly Boston -- 800 Boylston Street Boston, MA 02199
STATUS:CONFIRMED
SEQUENCE:0
TRANSP:OPAQUE
END:VEVENT
END:VCALENDAR
