BEGIN:VCALENDAR
VERSION:2.0
CALSCALE:GREGORIAN
BEGIN:VEVENT
DTSTAMP:20260421T164032
DTSTART:20260509T153000
DTEND:20260509T163000
SUMMARY:Uncorked: Tutto Moscato
DESCRIPTION:Event Info: https://www.localwineevents.com/view/event/uncorked-tutto-moscato/1002566
LOCATION:Eataly Dallas -- 8687 North Central Expressway Dallas, TX 75225
STATUS:CONFIRMED
SEQUENCE:0
TRANSP:OPAQUE
END:VEVENT
END:VCALENDAR
