BEGIN:VCALENDAR
VERSION:2.0
CALSCALE:GREGORIAN
BEGIN:VEVENT
DTSTAMP:20260420T073522
DTSTART:20260509T190000
DTEND:20260509T210000
SUMMARY:Secret Supper Club Chicago A Private 12-Seat Dining Experience
DESCRIPTION:Event Info: https://www.localwineevents.com/view/event/secret-supper-club-chicago-a-private-12-seat-dining-experience/1002565
LOCATION:Private -- Private Chicago, IL 60610
STATUS:CONFIRMED
SEQUENCE:0
TRANSP:OPAQUE
END:VEVENT
END:VCALENDAR
