BEGIN:VCALENDAR
VERSION:2.0
CALSCALE:GREGORIAN
BEGIN:VEVENT
DTSTAMP:20260420T173453
DTSTART:20260509T190000
DTEND:20260509T220000
SUMMARY:Chef Tasting Experience - Spring Edition @ Ryfe Restaurant
DESCRIPTION:Event Info: https://www.localwineevents.com/view/event/chef-tasting-experience---spring-edition-ryfe-restaurant/1002564
LOCATION:Ryfe Restaurant, Bar  Event Venue in Moorestown -- 400 New Jersey 38 Moorestown, NJ 08057
STATUS:CONFIRMED
SEQUENCE:0
TRANSP:OPAQUE
END:VEVENT
END:VCALENDAR
