BEGIN:VCALENDAR
VERSION:2.0
CALSCALE:GREGORIAN
BEGIN:VEVENT
DTSTAMP:20260420T114915
DTSTART:20260509T133000
DTEND:20260509T153000
SUMMARY:High Tea Sacramento
DESCRIPTION:Event Info: https://www.localwineevents.com/view/event/high-tea-sacramento/1002562
LOCATION:3200 Broadway -- 3200 Broadway Sacramento, CA 95817
STATUS:CONFIRMED
SEQUENCE:0
TRANSP:OPAQUE
END:VEVENT
END:VCALENDAR
