BEGIN:VCALENDAR
VERSION:2.0
CALSCALE:GREGORIAN
BEGIN:VEVENT
DTSTAMP:20260421T163949
DTSTART:20260509T130000
DTEND:20260509T150000
SUMMARY:Pasta Making With Chef Sarah At A Local Brewery - Pasta Making Cooking Class In Portland | Classpop!
DESCRIPTION:Event Info: https://www.localwineevents.com/view/event/pasta-making-with-chef-sarah-at-a-local-brewery---pasta-making-cooking-class-in-portland-classpop/1002553
LOCATION:Threshold Brewing -- 403 SE 79th Ave, Portland, Oregon 97215 Portland, OR 97204
STATUS:CONFIRMED
SEQUENCE:0
TRANSP:OPAQUE
END:VEVENT
END:VCALENDAR
