BEGIN:VCALENDAR
VERSION:2.0
CALSCALE:GREGORIAN
BEGIN:VEVENT
DTSTAMP:20260420T074425
DTSTART:20260509T183000
DTEND:20260509T200000
SUMMARY:Charcuterie Board Class
DESCRIPTION:Event Info: https://www.localwineevents.com/view/event/charcuterie-board-class/1002552
LOCATION:Ceremony Coffee Roasters - Roastery -- 90 Russell Street Annapolis, MD 21401
STATUS:CONFIRMED
SEQUENCE:0
TRANSP:OPAQUE
END:VEVENT
END:VCALENDAR
