BEGIN:VCALENDAR
VERSION:2.0
CALSCALE:GREGORIAN
BEGIN:VEVENT
DTSTAMP:20260420T122001
DTSTART:20260509T200000
DTEND:20260509T223000
SUMMARY:THE FAMILY Mother\'s Day Weekend Show
DESCRIPTION:Event Info: https://www.localwineevents.com/view/event/the-family-mothers-day-weekend-show/1002551
LOCATION:138 E 6th St -- 138 East 6th Street Corona, CA 92879
STATUS:CONFIRMED
SEQUENCE:0
TRANSP:OPAQUE
END:VEVENT
END:VCALENDAR
