BEGIN:VCALENDAR
VERSION:2.0
CALSCALE:GREGORIAN
BEGIN:VEVENT
DTSTAMP:20260421T163956
DTSTART:20260509T170000
DTEND:20260509T200000
SUMMARY:Mothers Day Murder Mystery Dinner Experience | 4-Course Meal + Live Show
DESCRIPTION:Event Info: https://www.localwineevents.com/view/event/mothers-day-murder-mystery-dinner-experience-4-course-meal-live-show/1002550
LOCATION:2400 W Pioneer Pkwy suite 114 -- 2400 West Pioneer Parkway Pantego, TX 76013
STATUS:CONFIRMED
SEQUENCE:0
TRANSP:OPAQUE
END:VEVENT
END:VCALENDAR
