BEGIN:VCALENDAR
VERSION:2.0
CALSCALE:GREGORIAN
BEGIN:VEVENT
DTSTAMP:20260420T090711
DTSTART:20260509T130000
DTEND:20260509T143000
SUMMARY:Made With Love: Mothers Day Charcuterie Workshop - Burtech Family Vineyard
DESCRIPTION:Event Info: https://www.localwineevents.com/view/event/made-with-love-mothers-day-charcuterie-workshop---burtech-family-vineyard/1002548
LOCATION:3902 Manchester Ave -- 3902 Manchester Avenue Encinitas, CA 92024
STATUS:CONFIRMED
SEQUENCE:0
TRANSP:OPAQUE
END:VEVENT
END:VCALENDAR
